BEGIN:VCALENDAR
VERSION:2.0
PRODID:-//AVEVA - ECPv6.6.1//NONSGML v1.0//EN
CALSCALE:GREGORIAN
METHOD:PUBLISH
X-WR-CALNAME:AVEVA
X-ORIGINAL-URL:https://www.scandinavia.avevaselect.com
X-WR-CALDESC:Events for AVEVA
REFRESH-INTERVAL;VALUE=DURATION:PT1H
X-Robots-Tag:noindex
X-PUBLISHED-TTL:PT1H
BEGIN:VTIMEZONE
TZID:Europe/Paris
BEGIN:DAYLIGHT
TZOFFSETFROM:+0100
TZOFFSETTO:+0200
TZNAME:CEST
DTSTART:20260329T010000
END:DAYLIGHT
BEGIN:STANDARD
TZOFFSETFROM:+0200
TZOFFSETTO:+0100
TZNAME:CET
DTSTART:20261025T010000
END:STANDARD
TZID:UTC
BEGIN:STANDARD
TZOFFSETFROM:+0000
TZOFFSETTO:+0000
TZNAME:UTC
DTSTART:20260101T000000
END:STANDARD
END:VTIMEZONE
BEGIN:VEVENT
DTSTART;VALUE=DATE:20260908
DTEND;VALUE=DATE:20260911
DTSTAMP:20260420T082604
CREATED:20260413T121337Z
LAST-MODIFIED:20260413T121337Z
UID:20950-1788825600-1789084799@www.scandinavia.avevaselect.com
SUMMARY:AUTOMATIK 2026
DESCRIPTION:We are thrilled to be back at Automatik and meet you all! What has happened since we last met? What are your goals and challenges in your operations? Are you already on a digital journey? In the beginning\, or not yet started? We have a lot of interesting things to talk about. Come to our stand XX and have a chat and a cup of coffee or some beverage. You find us together with Schneider Electric in stand \nAt our stand you will meet Mikkel Horn and Michael Vittrup.
URL:https://www.scandinavia.avevaselect.com/event/automatik-2026/
LOCATION:Brøndbyhallen\, Brøndby\, Denmark
ATTACH;FMTTYPE=image/png:https://www.scandinavia.avevaselect.com/wp-content/uploads/2026/04/Automatik-2026-DK.png
END:VEVENT
BEGIN:VEVENT
DTSTART;VALUE=DATE:20260930
DTEND;VALUE=DATE:20261001
DTSTAMP:20260420T082604
CREATED:20260413T125048Z
LAST-MODIFIED:20260413T133253Z
UID:20957-1790726400-1790812799@www.scandinavia.avevaselect.com
SUMMARY:Plant SCADA Day 2026 - Sweden
DESCRIPTION:Plant SCADA Day Sweden is back – and you don’t want to miss it. \nJoin us for a full day dedicated to AVEVA Plant SCADA\, bringing together system integrators and end users for an inspiring mix of product news\, real-world customer stories\, and forward-looking insights. Get an exclusive look at the latest innovations\, peek behind the curtain at the product roadmap\, and hear directly from customers who are pushing Plant SCADA to new heights. \nWe’ll also cover practical updates — support and upgrade agreements\, current promotions\, and the latest on both new and legacy drivers — so you leave with everything you need to hit the ground running. \nAnd when the sessions wrap up? The day ends with a relaxed dinner\, because the best conversations often happen over food. \nAgenda and speaker details are coming soon — stay tuned!
URL:https://www.scandinavia.avevaselect.com/event/plant-scada-day-2026-sweden/
LOCATION:Scandic Göteborg Central\, Vikingsgatan 7\, Göteborg\, Göteborg\, 411 04\, Sweden
ATTACH;FMTTYPE=image/png:https://www.scandinavia.avevaselect.com/wp-content/uploads/2026/04/Plant-SCADA-Day-Sweden-2026.png
END:VEVENT
END:VCALENDAR